BEGIN:VCALENDAR
PRODID:-//IDN tsvjapie.nl//ACTIVITY
VERSION:2.0
METHOD:PUBLISH
BEGIN:VTIMEZONE
TZID:Europe/Amsterdam
BEGIN:STANDARD
DTSTART:16011028T030000
RRULE:FREQ=YEARLY;BYDAY=-1SU;BYMONTH=10
TZOFFSETFROM:+0200
TZOFFSETTO:+0100
END:STANDARD
BEGIN:DAYLIGHT
DTSTART:16010325T020000
RRULE:FREQ=YEARLY;BYDAY=-1SU;BYMONTH=3
TZOFFSETFROM:+0100
TZOFFSETTO:+0200
END:DAYLIGHT
END:VTIMEZONE
BEGIN:VEVENT
CLASS:PUBLIC
CREATED:20260421T114703Z
DESCRIPTION:At the Biomedical division of dsm-firmenich\, t
	hey provide customizable\, combinable\, and susta
	inable biomaterials that are unrivaled in the medi
	cal industry - empowering designers and engineers 
	to explore new creative frontiers and bring innova
	tive medical solutions to market faster! Biomedic
	al co-creates innovative medical device with othe
	r companies\, therefore every second of every day\
	, a patient receives an implantable medical device
	 featuring a biomaterial from Biomedical.\n\nThey
	 specialize in hydrophilic coatings\, medical po
	lyurethanes\, natural biomaterials\, and they work
	 on sustained drug delivery solutions. Areas tha
	t they focus on are for example diabetes\, orthopa
	edics\, vascular\, and disease prevention and mana
	gement!\n\nThe lunch lecture is in collaboration w
	ith study association Protagoras and lunch will be
	 included! This activity is also worth 1 MFA.\n\n
	
DTEND;TZID=Europe/Amsterdam:20260520T133000
DTSTAMP:20260421T175050Z
DTSTART;TZID=Europe/Amsterdam:20260520T123000
LAST-MODIFIED:20260421T115415Z
LOCATION:t.b.d.
	
SUMMARY:Lunch Lecture with dsm-firmenich
	
TRANSP:OPAQUE
UID:1540e83472efddc249fc9171e7d81e3eed70@tsvjapie.nl
END:VEVENT
END:VCALENDAR
