BEGIN:VCALENDAR
PRODID:-//IDN tsvjapie.nl//ACTIVITY
VERSION:2.0
METHOD:PUBLISH
BEGIN:VTIMEZONE
TZID:Europe/Amsterdam
BEGIN:STANDARD
DTSTART:16011028T030000
RRULE:FREQ=YEARLY;BYDAY=-1SU;BYMONTH=10
TZOFFSETFROM:+0200
TZOFFSETTO:+0100
END:STANDARD
BEGIN:DAYLIGHT
DTSTART:16010325T020000
RRULE:FREQ=YEARLY;BYDAY=-1SU;BYMONTH=3
TZOFFSETFROM:+0100
TZOFFSETTO:+0200
END:DAYLIGHT
END:VTIMEZONE
BEGIN:VEVENT
CLASS:PUBLIC
CREATED:20260204T170712Z
DESCRIPTION:Explore the Heart of Dutch Industry at Shell Perni
	s\n\nDiscover one of Europe’s most impressive in
	dustrial sites up close. Shell Pernis spans the ar
	ea of 800 football fields while containing more th
	an 160\,000 km of piping (enough to circle the Ear
	th four times). It is the largest refinery in Euro
	pe where everyday\, we process over 6 million litr
	es of crude oil\, supplying the energy the world r
	elies on today while actively shaping the energy s
	ystems of tomorrow.\n\nThis visit offers a unique 
	opportunity to experience the scale\, complexity\,
	 and innovation behind modern refining and enginee
	ring. A full-day program is arranged on-site\, inc
	luding bus transportation to and from Eindhoven.\n
	\nProgramme:\n\nWelcome by Shell Pernis senior lea
	dershipTechnical deep-dive: refining and engineeri
	ng“A Week in the Life” of Shell graduatesLunch
	 and networking sessionGuided bus tour over site\,
	 with control room visitEnergy Transition GameClos
	ing drinksWe will depart from Eindhoven at 8:00 an
	d return back at the TU/e campus by 18:30. \n\nThi
	s activity is worth 2 MFA.\n\nNote: this is a comb
	ined excursion alongside W.S.V. Simon Stevin (stud
	y association of Mechanical Engineering) and e.t.s
	.v. Thor (study association of Electrical Engineer
	ing)!\n\n
	
DTEND;TZID=Europe/Amsterdam:20260316T183000
DTSTAMP:20260420T104214Z
DTSTART;TZID=Europe/Amsterdam:20260316T080000
LAST-MODIFIED:20260211T145418Z
LOCATION:Shell Pernis\, Rotterdam
	
SUMMARY:Excursion to Shell
	
TRANSP:OPAQUE
UID:151757c3655b2fa9366d4d4fff9288665bcc@tsvjapie.nl
END:VEVENT
END:VCALENDAR
